BEGIN:VCALENDAR
VERSION:2.0
PRODID:-//Eventin//Event Calendar//EN
CALSCALE:GREGORIAN
METHOD:PUBLISH
BEGIN:VEVENT
UID:38ffa625868f7b90204e7cdd73d05070@vlaczek.be
SUMMARY:Společné stanování s Vlaczkem - přihlašte se do 16.dubna
DESCRIPTION:Milí přátelé\,\nletos pro vás máme velkou novinku – ná
 š tradiční Vlaczkovský kemp mění místo! Tentokrát se společně vyd
 áme do srdce Arden\, kde nás čeká úplně nový zážitek\, víc přír
 ody\, víc dobrodružství a ještě víc prostoru pro společné chvíle.\
 nSrdečně vás zveme na 4. ročník společného stanování s Vlaczkem\, 
 který letos proběhne v nádherném prostředí kempu Domaine Le Val de l
 ’Aisne – mezi lesy\, kopci a u řeky\, která přímo vybízí k objevo
 vání.\n📅 Termín: 28. srpna – 30. srpna 2026\n📍 Místo: Domaine
  Le Val de l´Aisne\n🌐 https://levaldelaisne.be/\n🏕️ Jak se zúčas
 tnit?\nVyplňte registrační formulář. Najdete v něm podrobné pokyny\,
  jak si rezervovat místo v kempu. Každá rodina si ubytování v kempu re
 zervuje a hradí individuálně.\n👉 Pokud máte zájem jet s námi\, pro
 sím vyplňte registrační formulář a odešlete svou rezervaci přímo k
 empu co nejdříve\, nejpozději do 16. dubna.
LOCATION:Domaine Le Val de l'Aisne
DTSTAMP:20260421T093316Z
DTSTART:20260827T220000Z
DTEND:20260829T220000Z
END:VEVENT
END:VCALENDAR
