BEGIN:VCALENDAR
VERSION:2.0
PRODID:-//Eventin//Event Calendar//EN
CALSCALE:GREGORIAN
METHOD:PUBLISH
BEGIN:VEVENT
UID:8aa3895774ac15fe98aee85b0fbe7afe@vlaczek.be
SUMMARY:Česko-Slovenské Velikonoce v Lovani
DESCRIPTION:Česko-slovenské Velikonoce\, první akce našeho spolku se ko
 nala za pěkného nedělního odpoledne 24.4. 2022 v parčíku u Hal 5 v Lo
 vani.\n\nDorazilo 27 dospělých a 21 dětí. Hanka všechny uvítala sklen
 kou jiskrného moku\, a tak se hned rozproudila čilá konverzace.\n\nDěti
  se pustily do tvoření velikonočních ptáčků z papíru a do malován
 í štětcem\, prstem\, celou rukou\, klacíkem…fantazie neznala hranic. 
 Umíte skákat přes gumu?\n\nMagda předvedla excelentní sestavu na ktero
 u všichni koukali s otevřenou pusou. No co se v mladí naučíš… \;)\n
 \nPak se za všeobecného veselí do skákaní pustila i nejmladší genera
 ce. Došlo i na velikonoční tradice\, ochutnávku velikonočních jidáš
 ků a pomlázku.\n\nRozloučili jsme se s domácím úkolem popřemýšlet 
 o názvu spolku.\n\nVítězný návrh bude oceněn láhví Becherovky!
LOCATION:Online
DTSTAMP:20260422T104342Z
DTSTART:20220424T130000Z
DTEND:20260422T160000Z
END:VEVENT
END:VCALENDAR
