BEGIN:VCALENDAR
VERSION:2.0
PRODID:-//Eventin//Event Calendar//EN
CALSCALE:GREGORIAN
METHOD:PUBLISH
BEGIN:VEVENT
UID:142988e83732cdbd3d7fe2bc1bc0bc23@vlaczek.be
SUMMARY:Dětský den
DESCRIPTION:12. června 2022 se v Provinciedomein Kessel-Lo sešlo 30 rodi
 čů a 30 dětí\, aby spolu oslavili dětský den. Počasí nám přálo a
  lokalita byla ideální pro naplánované hry a piknik. V úvodu akce pro
 běhlo krátké přivítání všech účastníků a děti byly rozděleny 
 do skupinek. Jejich první úkol byl dát svému týmu jméno a fantazie by
 la veliká! Z dětí se najednou stali Anonymové\, baletky\, a všemožná
  zvířátka :-)  Celkem bylo připraveno 7 aktivit\, některé pohybové
 \, jiné jazykové. Cílem bylo projít všemi stanovišti a samozřejmě t
 o nejdúležitější bylo užít si odpoledne s kamarády. Všichni zúča
 stnění za svoji snahu dostali medaile.  Na rodiče se také myslelo. Za
 hráli si konverzační hru\, při které se navzájem více poznali a výb
 orně se bavili.  Za všechny zúčastněné si troufnu říct\, že akce
  se vydařila na výbornou.  Těšíme se na další setkání na podzim.
   Magda
LOCATION:Online
DTSTAMP:20260422T104321Z
DTSTART:20220612T150000Z
DTEND:20260422T180000Z
END:VEVENT
END:VCALENDAR
