BEGIN:VCALENDAR
VERSION:2.0
PRODID:-//Eventin//Event Calendar//EN
CALSCALE:GREGORIAN
METHOD:PUBLISH
BEGIN:VEVENT
UID:4d348338298d7e49d003ab40ddd66743@vlaczek.be
SUMMARY:Svatováclavské vinobraní
DESCRIPTION:Přijďte s námi a dalšími rodinami oslavit svátek sv. Vác
 lava. Pro děti máme připraven bohatý program včetně loutkového divad
 la o životě sv. Václava. Dospělí se zase mohou těšit na chutnávku v
 ín od lokálních vinařů (oblast Hageland).Přihlásit se na tuto akci m
 ůžete vyplněním následujícího formuláře:\n\nhttps://forms.gle/gHMn
 dML3Fm9ef1bB6\n\nRegistrace přihlášek je možná do pátku 16.září.
LOCATION:Online
DTSTAMP:20260422T103420Z
DTSTART:20220925T130000Z
DTEND:20260422T170000Z
END:VEVENT
END:VCALENDAR
