BEGIN:VCALENDAR
VERSION:2.0
PRODID:-//Eventin//Event Calendar//EN
CALSCALE:GREGORIAN
METHOD:PUBLISH
BEGIN:VEVENT
UID:535137b5fbeee55ffd040d0c7538efe2@vlaczek.be
SUMMARY:Mikulášská besídka
DESCRIPTION:
LOCATION:Online
DTSTAMP:20260421T092706Z
DTSTART:20221204T140000Z
DTEND:20260421T170000Z
END:VEVENT
END:VCALENDAR
