BEGIN:VCALENDAR
VERSION:2.0
PRODID:-//Eventin//Event Calendar//EN
CALSCALE:GREGORIAN
METHOD:PUBLISH
BEGIN:VEVENT
UID:3943f673f5835e90a46d73ccd8fe1e3a@vlaczek.be
SUMMARY:Podzimní zpívánky
DESCRIPTION:Vstupenky jsou již vyprodané. Pokud chcete být informováni 
 o budoucích akcích\, tak se registrujte zde
LOCATION:Online
DTSTAMP:20260422T104158Z
DTSTART:20221023T130000Z
DTEND:20260422T160000Z
END:VEVENT
END:VCALENDAR
