BEGIN:VCALENDAR
VERSION:2.0
PRODID:-//Eventin//Event Calendar//EN
CALSCALE:GREGORIAN
METHOD:PUBLISH
BEGIN:VEVENT
UID:b00f0df9f30dc05b649fcc06256a5270@vlaczek.be
SUMMARY:Pohádkový karneval
DESCRIPTION:Prožijte zábavné odpoledne plné tanečních a pohybových s
 outěží a aktivit nejen pro malé i velké. Tématem letošního karneval
 u jsou ČESKÉ A SLOVENSKÉ POHÁDKY. \n\n\n\nProgram:\n\n\n\n- přehlídk
 a masek a kostýmů\n\n\n\n- taneční a pohybové soutěže a aktivity\n\n
 \n\n- bohatá tombola\n\n\n\n- fotokoutek\n\n\n\n- občerstvení zajištěn
 o\n\n\n\nTěšíme se na vaši účast\,\n\n\n\nTým Vlaczek
LOCATION:Online
DTSTAMP:20260421T081100Z
DTSTART:20230305T140000Z
DTEND:20260421T170000Z
END:VEVENT
END:VCALENDAR
