BEGIN:VCALENDAR
VERSION:2.0
PRODID:-//Eventin//Event Calendar//EN
CALSCALE:GREGORIAN
METHOD:PUBLISH
BEGIN:VEVENT
UID:ef3f9c6ab721a86a76ec9c8d74a7b927@vlaczek.be
SUMMARY:Velikonoční hodování a dílničky pro děti a dospělé
DESCRIPTION:
LOCATION:Online
DTSTAMP:20260421T081029Z
DTSTART:20230326T140000Z
DTEND:20260421T170000Z
END:VEVENT
END:VCALENDAR
