BEGIN:VCALENDAR
VERSION:2.0
PRODID:-//Eventin//Event Calendar//EN
CALSCALE:GREGORIAN
METHOD:PUBLISH
BEGIN:VEVENT
UID:54c214420b0661b564b2213307033018@vlaczek.be
SUMMARY:Jarní zpívánky
DESCRIPTION:Série dvou na sebe navazujících hudebně-pohybových worksho
 pů pro české děti:\n\n\n\nTermíny:\n\n\n\n1.     skupina (4-6 let
 )\n\n\n\n·       So 11.března 14:30 – 15:30\n\n\n\n·     
   So 18.března 14:30 – 15:30\n\n\n\n2.     skupina (děti od 7 le
 t)\n\n\n\n·       So 11.března 15:45 – 16:45\n\n\n\n·     
   So 18.března 15:45 – 16:45\n\n\n\nLokalita:\n\n\n\nSál B 2.3\, Augu
 stinessenklooster Romaanse poort & kapel\, Brusselsestraat 63\, 3000 Leuven
 \n\n\n\nProgram workshopů:\n\n\n\nTématem těchto zpívánek bude jaro.
  Program bude velmi pestrý a bohatý. Čeká nás zpívání českých p
 ísniček\, které budeme nacvičovat na krátké vystoupení. Děti budou
  mít možnost jej předvést na velikonoční akci.Naučíme se sestavi
 t vlastní hudební nástroj a mimo to budeme hrát různé hudební a hud
 ebně-pohybové hry.\n\n\n\nTento typ workshopu je pro děti přínosný ne
 jen v rozvíjení jejich hudebnosti\, ale také podporuje jejich kreativitu
  a fantazii. Lidové písně a říkadla mimo jiné přirozeně rozvíjí 
 řeč\, podporují správnou artikulaci a upevňují naše kulturní kořen
 y a tradice. Děti se mohou nejen mnohému naučit\, ale hlavně mohou zaž
 ít spoustu zábavy a poznat nové kamarády.\n\n\n\nZpívánky budou prob
 íhat hravou formou a jsou vhodné pro všechny děti nehledě na to\, jest
 li už mají nějaké hudební vzdělání nebo ne.\n\n\n\nLektorka: Adél
 a Bezoušková DiS.\n\n\n\n Adéla Bezoušková DiS.\n\n\n\nAdéla je pro
 fesionální hráčkou na flétnu a pedagožkou. Vystudovala hudební konze
 rvatoř v Pardubicích a dále ve svém hudebním vzdělávání pokračova
 la na Masarykově univerzitě v Brně. V současnosti své vzdělání ro
 zšiřuje na Královské konzervatoři v Bruselu. Mimo aktivní hráčsk
 é působení se již od osmnácti let věnuje i pedagogické činnosti. V
  minulosti vyučovala na několika základních uměleckých školách v Č
 eské republice a vedla dětský sbor Bonifantes v Pardubicích. Jako je
 dna z prvních flétnistek v Čechách studovala Suzukiho metodu a hudební
  vzdělání pro nejmenší děti. Suzukiho metoda je metoda vzděláván
 í dětí\, která je výjimečná v tom\, že prosazuje myšlenku\, že v
 šechny děti mají potenciál učit se hudbě\, bez ohledu na genetické p
 redispozice\, talent\, apod. Děti se učí hudbě přirozeně jako napří
 klad mateřskému jazyku\, klade se přitom důraz na individualitu každé
 ho dítěte a vše probíhá velmi hravou a nenásilnou formou.  
LOCATION:Online
DTSTAMP:20260419T141300Z
DTSTART:20230318T143000Z
DTEND:20260419T164500Z
END:VEVENT
END:VCALENDAR
