BEGIN:VCALENDAR
VERSION:2.0
PRODID:-//Eventin//Event Calendar//EN
CALSCALE:GREGORIAN
METHOD:PUBLISH
BEGIN:VEVENT
UID:2848234f571cc528e629669a14efbcb7@vlaczek.be
SUMMARY:Dětský den na farmě
DESCRIPTION:04/06/2023 15:00 - 18:00\n\n\n\nDe Witte Hoeve\, Aarschot
LOCATION:Online
DTSTAMP:20260422T102541Z
DTSTART:20230604T140000Z
DTEND:20260422T170000Z
END:VEVENT
END:VCALENDAR
