BEGIN:VCALENDAR
VERSION:2.0
PRODID:-//Eventin//Event Calendar//EN
CALSCALE:GREGORIAN
METHOD:PUBLISH
BEGIN:VEVENT
UID:62bb776112133de2984b4d6f712c990d@vlaczek.be
SUMMARY:Pálení čarodějnic
DESCRIPTION:
LOCATION:Online
DTSTAMP:20260421T080214Z
DTSTART:20230507T150000Z
DTEND:20260421T190000Z
END:VEVENT
END:VCALENDAR
