BEGIN:VCALENDAR
VERSION:2.0
PRODID:-//Eventin//Event Calendar//EN
CALSCALE:GREGORIAN
METHOD:PUBLISH
BEGIN:VEVENT
UID:f36555a41455d86a2f09b12e183c7291@vlaczek.be
SUMMARY:Vlaczek na Wereldfeest 2023
DESCRIPTION:
LOCATION:Online
DTSTAMP:20260422T104002Z
DTSTART:20230513T100000Z
DTEND:20260422T160000Z
END:VEVENT
END:VCALENDAR
