BEGIN:VCALENDAR
VERSION:2.0
PRODID:-//Eventin//Event Calendar//EN
CALSCALE:GREGORIAN
METHOD:PUBLISH
BEGIN:VEVENT
UID:2a3ea0a1201bc960d2325799c047aece@vlaczek.be
SUMMARY:Autorské čtení & workshop s Veronikou Valentovou
DESCRIPTION:
LOCATION:Online
DTSTAMP:20260421T092216Z
DTSTART:20230618T130000Z
DTEND:20260421T160000Z
END:VEVENT
END:VCALENDAR
