BEGIN:VCALENDAR
VERSION:2.0
PRODID:-//Eventin//Event Calendar//EN
CALSCALE:GREGORIAN
METHOD:PUBLISH
BEGIN:VEVENT
UID:154627cbb2f87def95bf153bded54039@vlaczek.be
SUMMARY:Svatováclavské slavnosti 2023
DESCRIPTION:
LOCATION:Online
DTSTAMP:20260421T093507Z
DTSTART:20230924T130000Z
DTEND:20260421T160000Z
END:VEVENT
END:VCALENDAR
