BEGIN:VCALENDAR
VERSION:2.0
PRODID:-//Eventin//Event Calendar//EN
CALSCALE:GREGORIAN
METHOD:PUBLISH
BEGIN:VEVENT
UID:ac4865763ef9b2fd6d62a15ef5f82756@vlaczek.be
SUMMARY:Sametové setkání
DESCRIPTION:
LOCATION:Online
DTSTAMP:20260421T080135Z
DTSTART:20260421T180000Z
DTEND:20260421T220000Z
END:VEVENT
END:VCALENDAR
