BEGIN:VCALENDAR
VERSION:2.0
PRODID:-//Eventin//Event Calendar//EN
CALSCALE:GREGORIAN
METHOD:PUBLISH
BEGIN:VEVENT
UID:ba6a96139deecd742bab552d2dc04ff5@vlaczek.be
SUMMARY:Sametové setkání
DESCRIPTION:Srdečně vás zveme k jedinečné akci při příležitosti 
 34. výročí Sametové revoluce\, která se bude konat v pátek 17. listo
 padu od 19:00.\n\n\n\nPřipojte se k nám na večerní procházku Lovaní\,
  během níž budeme objevovat zajímavé paralely mezi Lovaní/Vlámskem
  a Českou republikou - a to nejen z hlediska historie. Po prohlídce nás
  čeká občerstvení\, včetně chlebíčků\, domácího svařáku a č
 eského piva. Zároveň si budeme moci otestovat naše znalosti v krátkém
  kvízu.\n\n\n\nNenechte si ujít jedinečnou atmosféru a přijďte se s n
 ámi pobavit\, dozvědět se něco nového a společně si užít večer sa
 metového výročí.\n\n\n\nPoznámka: Tato akce je vhodná pro dospělé a
  starší děti\, kteří zvládnou večerní procházku. Účast menších
  dětí necháme na vašem uvážení.
LOCATION:Online
DTSTAMP:20260420T140236Z
DTSTART:20231117T170000Z
DTEND:20260420T200000Z
END:VEVENT
END:VCALENDAR
