BEGIN:VCALENDAR
VERSION:2.0
PRODID:-//Eventin//Event Calendar//EN
CALSCALE:GREGORIAN
METHOD:PUBLISH
BEGIN:VEVENT
UID:7f9a36aa886695271d1d0bdbbb44741b@vlaczek.be
SUMMARY:Mikulášská besídka
DESCRIPTION:
LOCATION:Online
DTSTAMP:20260421T092706Z
DTSTART:20231203T140000Z
DTEND:20260421T160000Z
END:VEVENT
END:VCALENDAR
