BEGIN:VCALENDAR
VERSION:2.0
PRODID:-//Eventin//Event Calendar//EN
CALSCALE:GREGORIAN
METHOD:PUBLISH
BEGIN:VEVENT
UID:d03a9ea9071ff46ea414e93013cd499e@vlaczek.be
SUMMARY:Velikonoční dílničky
DESCRIPTION:Připojte se k nám na oslavu jara a velikonočních tradic!\n\
 n\n\nCo nás čeká:\n\n\n\n- Pečení beránků a jidášů\n\n\n\n- Barve
 ní vajíček voskem\n\n\n\n- Pletení pomlázky\n\n\n\n- Výtvarná dílni
 čka s výtvarnicí Katkou Swalens
LOCATION:Online
DTSTAMP:20260422T104146Z
DTSTART:20240324T140000Z
DTEND:20260422T160000Z
END:VEVENT
END:VCALENDAR
