BEGIN:VCALENDAR
VERSION:2.0
PRODID:-//Eventin//Event Calendar//EN
CALSCALE:GREGORIAN
METHOD:PUBLISH
BEGIN:VEVENT
UID:f37624bf5485dff411756c06917e8554@vlaczek.be
SUMMARY:Pálení čarodějnic
DESCRIPTION:Srdečně vás zveme na pálení čarodějnic a posezení u tá
 borového ohně\, které se uskuteční mimořádně ve sváteční středu
 \, 1. května 2024 od 15 hodin\, ve skautském zázemí Sint-Maarten ve Wil
 sele (Albert Woutersstraat 28\, 3012 Wilsele\, parkování je možné v uli
 ci Albert Woutersstraat případně přilehlých ulicích např. Natuurvrin
 denlaan)Přijďte se společně s námi pobavit u táboráku\, zazpívat si
  s kytarou a opéct (nejen) buřty. Můžete se také těšit na další la
 hodné občerstvení a nápoje. Pro děti bude jako již tradičně připra
 ven pestrý program a hry.\n\n\n\nDalší kytary a jiné hudební nástroje
  jsou vítány! Stejně jako tematické kostýmy čarodějů a čarodějnic
  🧙🏻🧙🏻‍♂️
LOCATION:Online
DTSTAMP:20260422T104131Z
DTSTART:20240501T130000Z
DTEND:21240501T160000Z
END:VEVENT
END:VCALENDAR
