BEGIN:VCALENDAR
VERSION:2.0
PRODID:-//Eventin//Event Calendar//EN
CALSCALE:GREGORIAN
METHOD:PUBLISH
BEGIN:VEVENT
UID:4c0f88abaa152be44037c49a226b0096@vlaczek.be
SUMMARY: Autorské čtení a workshop 
DESCRIPTION:Michaela\, která pracuje jako terapeutka a NLP koučka\, si v
 šimla\, že problémy se sebevědomím vznikají už v dětství. Po naroz
 ení dcery přemýšlela\, jak těmto problémům předcházet.\n\n\n\nZ to
 ho vznikl nápad na knížku “Jsem skvělé dítě – 7 pilířů dětsk
 ého sebevědomí"\, která se stala bestsellerem a byla přeložena do ně
 kolika jazyků.\n\n\n\nBěhem autorského čtení vám Michaela představí
  koncept 7 pilířů sebevědomí a překladatelka Karolína vám přečt
 e úryvek z české verze.\n\n\n\nBěhem workshopu si děti mohou vytvořit
  a vybarvit vlastní knížku o své rodině.\n\n\n\nBudete mít možnost s
 i knihu v češtině/slovenštině zakoupit a nechat si ji osobně podepsat
  od autorky!\n\n\n\nPro koho: Děti ve věku 3-10 let\; rodiče jsou samoz
 řejmě vítáni\, aby se zapojili do aktivit a mohou si také povídat s o
 statními rodiči u kávy.\n\n\n\nKdy: Sobota 16.3. od 15:15 hod.\n\n\n\nK
 de: Augustinessenklooster Romaanse Poort\, místnost A13\, Brusselsestraat
  63\, 3000 Leuven\n\n\n\nParkování: Nejbližší parkoviště (placené)
  je na Sint-Jacobsplein\; parkování zdarma na Parking Bodart příp. Vaar
 tkom a pak +- 20 minut pěšky\; přehled všech parkovišť v okolí najde
 te na tomto odkazu.\n\n\n\nVstupné: Dobrovolné na místě\; nutná regi
 strace.
LOCATION:Online
DTSTAMP:20260421T080151Z
DTSTART:20240316T143000Z
DTEND:20260421T153000Z
END:VEVENT
END:VCALENDAR
