BEGIN:VCALENDAR
VERSION:2.0
PRODID:-//Eventin//Event Calendar//EN
CALSCALE:GREGORIAN
METHOD:PUBLISH
BEGIN:VEVENT
UID:78d8ec8d76e7082f93c2382f1efb51a7@vlaczek.be
SUMMARY:Středeční kroužek – možnost jednorázového vstupu
DESCRIPTION:Středeční kroužek – jaro 2026 – možnost i jednorázov
 ého vstupu!\nNovinka: Máte zájem se připojit\, ale nestíháte celý s
 emestr?Nezoufejte – nabízíme možnost ad hoc vstupu na jednotlivé le
 kce středečního kroužku!\nStačí vyplnit tento formulář\, a my vám
  dáme vědět\, zda je na vybraný termín volné místo.\nČeština hrav
 ě: Hudebně-tanečně-dramatické a výtvarné odpoledne pro děti 3\,5–
 11 let\nStředeční kroužek v Lovani je skvělou příležitostí\, jak s
 i děti mohou hravou formou procvičovat češtinu a zároveň se setkávat
  s českými kamarády.  \n🎨 Každé středeční odpoledne se děti p
 onoří do světa her\, písniček\, jazykových cvičení\, divadla a tvo
 ření – vše přirozeně propojeno s výukou a rozvojem češtiny. Pro p
 ředškolní děti jsou navíc zařazena grafomotorická a logopedická cvi
 čení\, která podporují správný vývoj řeči a přípravu na psaní.
  \n👧👦Program probíhá paralelně ve dvou věkových skupinách (př
 edškoláci a školáci). \nAktivity jsou vždy přizpůsobeny věku\, jaz
 ykové úrovni a individuálním potřebám dětí.\n📌 Praktické infor
 mace:\nPro koho: 1. Předškoláci (3\,5 – 6 let)\; 2. Školáci (7-11)\n
 Kdy: Středa\, 16:15–17:45Data lekcí: 21/01\, 28/01\, 04/02\, 11/02\, 04
 /03\, 11/03\, 18/03\, 25/03\, 22/04\, 29/04\, 06/05\, 20/05\, 27/05\, 03/06
 \, 10/06Lokalita: Don Bosco Centrum\, Ortolanenstraat 6\, 3010 Leuven\nLekt
 orky: Růža Wiersum Stránská\, Alžběta Recová\, Kristýna Archer\, Ro
 zálie Stárová\, Magdaléna Havlínová\, Hana Špániková\n \n📝 Zá
 jemci na celý semestr se mohou přihlásit vyplněním tohoto formuláře:
  https://forms.gle/wbir4q1sMfDLMuWi9 \n \n👉 Prosíme\, abyste formul
 ář vyplnili zvlášť pro každé dítě.   \n \n💰 Cena za semestr
 : 175 EUR/dítě za pololetí\; sourozenecká sleva (tzn. dva sourozenci =
  325 EUR).\n \n✅ V ceně je zahrnuto:\n\nVýukové materiály a pomůck
 y\nPitný režim\nZdravá ovocná svačinka\nMěsíční e-mailový přehle
 d aktivit pro rodiče\nKáva/čaj pro rodiče 🙂\n\nPrvní lekce (21. led
 na) je zkušební a nezávazná. Po ní se můžete rozhodnout\, zda chcete
  pokračovat.\n \n💳 Platba: Proveďte platbu převodem na účet po pr
 vní lekci: Vlaczek – BE89 7330 6741 0885 Reference: STR lente 2026 +
  jméno dítěte\n \n📞 Kontakt:\nE-mail: info@vlaczek.be\nWhatsapp/tele
 fon: +32 479 609 481 (Hanka)\n🎵 Bonusová možnost – soukromé hudebn
 í lekceNaše lektorka Kristýna nabízí také individuální lekce hude
 bní výchovy pro děti – klavír\, zpěv\, flétna nebo jejich kombinace
 .V případě zájmu mě neváhejte kontaktovat a ráda vás s Kristýnou p
 ropojím. 😊\nPředstavujeme lektorky středečního kroužku
LOCATION:Don Bosco centrum\, Ortolanenstraat 6\, 3010 Leuven
DTSTAMP:20260421T080305Z
DTSTART:20260422T141500Z
DTEND:20260610T154500Z
END:VEVENT
END:VCALENDAR
