BEGIN:VCALENDAR
VERSION:2.0
PRODID:-//Eventin//Event Calendar//EN
CALSCALE:GREGORIAN
METHOD:PUBLISH
BEGIN:VEVENT
UID:0f82f3cba9147f62e048d9f0044ed1d7@vlaczek.be
SUMMARY:Mikulášská besídka 2026
DESCRIPTION:
LOCATION:t Celestijntje\, Celestijnenlaan 19\, 3001 Leuven
DTSTAMP:20260421T081958Z
DTSTART:20261206T140000Z
DTEND:20261206T170000Z
END:VEVENT
END:VCALENDAR
