BEGIN:VCALENDAR
VERSION:2.0
PRODID:-//Eventin//Event Calendar//EN
CALSCALE:GREGORIAN
METHOD:PUBLISH
BEGIN:VEVENT
UID:1aa00fd63ab6b86f33aafa214e64887f@vlaczek.be
SUMMARY:Pálení čarodějnic - kapacita je již naplněna
DESCRIPTION:Kapacita na tuto akci je již naplněna. Děkujeme za pochopen
 í!\nMilí přátelé\,\ni letos bude konec dubna spojený s naší oblíbe
 nou tradicí - Pálením čarodějnic\nUž teď se těšíme na tu pohodov
 ou atmosféru u táborového ohně  za zvuku kytary  a hlavně... na p
 octivé české špekáčky/buřty! \nAbychom jich ale stihli nakoupit pln
 ý kufr v ČR\, potřebujeme od vás malou pomoc. Prosíme\, lístky si re
 zervujte ještě před velikonočními prázdinami! Děkujeme!\n Kdy: Ne
 děle 26. dubna od 15:00\n Kde: Lesní tábořiště De Kluis\, Sint-Jori
 s-Weert\n Na co se těšit: Opékání špekáčků/buřtů a dalších d
 obrot\, pohodová atmosféra a program pro děti.\n Co s sebou? Zpěvník
 y\, dobrou náladu a třeba i čarodějnický klobouk!
LOCATION:De Kluis\, Kluis 1\, 3051 St-Joris-Weert
DTSTAMP:20260421T081153Z
DTSTART:20260426T130000Z
DTEND:20260426T160000Z
END:VEVENT
END:VCALENDAR
