BEGIN:VCALENDAR
VERSION:2.0
PRODID:-//Eventin//Event Calendar//EN
CALSCALE:GREGORIAN
METHOD:PUBLISH
BEGIN:VEVENT
UID:d3e3b7808fc66e7dca18883d641615dd@vlaczek.be
SUMMARY:Literární workshop s Veronikou Valentovou & piknik
DESCRIPTION:Více informací již brzy.
LOCATION:Ontmoetingscentrum De Bruul\, Brouwersstraat 3000 Leuven
DTSTAMP:20260421T081117Z
DTSTART:20260621T130000Z
DTEND:20260621T160000Z
END:VEVENT
END:VCALENDAR
